BEGIN:VCALENDAR
VERSION:2.0
PRODID:-//STARFLEET Members Hub - ECPv6.15.20//NONSGML v1.0//EN
CALSCALE:GREGORIAN
METHOD:PUBLISH
X-WR-CALNAME:STARFLEET Members Hub
X-ORIGINAL-URL:https://members.sfi.org
X-WR-CALDESC:Events for STARFLEET Members Hub
REFRESH-INTERVAL;VALUE=DURATION:PT1H
X-Robots-Tag:noindex
X-PUBLISHED-TTL:PT1H
BEGIN:VTIMEZONE
TZID:UTC
BEGIN:STANDARD
TZOFFSETFROM:+0000
TZOFFSETTO:+0000
TZNAME:UTC
DTSTART:20240101T000000
END:STANDARD
END:VTIMEZONE
BEGIN:VTIMEZONE
TZID:America/New_York
BEGIN:DAYLIGHT
TZOFFSETFROM:-0500
TZOFFSETTO:-0400
TZNAME:EDT
DTSTART:20230312T070000
END:DAYLIGHT
BEGIN:STANDARD
TZOFFSETFROM:-0400
TZOFFSETTO:-0500
TZNAME:EST
DTSTART:20231105T060000
END:STANDARD
BEGIN:DAYLIGHT
TZOFFSETFROM:-0500
TZOFFSETTO:-0400
TZNAME:EDT
DTSTART:20240310T070000
END:DAYLIGHT
BEGIN:STANDARD
TZOFFSETFROM:-0400
TZOFFSETTO:-0500
TZNAME:EST
DTSTART:20241103T060000
END:STANDARD
BEGIN:DAYLIGHT
TZOFFSETFROM:-0500
TZOFFSETTO:-0400
TZNAME:EDT
DTSTART:20250309T070000
END:DAYLIGHT
BEGIN:STANDARD
TZOFFSETFROM:-0400
TZOFFSETTO:-0500
TZNAME:EST
DTSTART:20251102T060000
END:STANDARD
END:VTIMEZONE
BEGIN:VEVENT
DTSTART;TZID=UTC:20250110T000000
DTEND;TZID=UTC:20250126T000000
DTSTAMP:20260422T134354
CREATED:20250103T230904Z
LAST-MODIFIED:20250103T230904Z
UID:5929-1736467200-1737849600@members.sfi.org
SUMMARY:Starfleet Amateur Radio Group - Celebrating Star Trek\, 1701 event
DESCRIPTION:Celebrating Star Trek from Jan 10 – Jan 25\, 2025 \nMost countries put the date as ddmm \nThe importance of this one is 1701 as the the NCC-1701\, the USS Enterprise on Star Trek \nStarfleet Amateur Radio Group SFARG@k6irk.com \nWe will be operating on various bands and modes. \nSSB\, FT8\, FT4\, DMR \nOther Stations involved in this Event is: \nN6S – N6S@k6irk.com – operator – Rob – K6IRK\nN6C – – operator – Ed – K6NCC \nDigital QSL Cards or certificates will only sent out and will confirm on QRZ. \nN6S has digital cards that will be sent out. \nDepending on the popularity of the event\, we may do paper cards next year. \nWould love to get a digital and/or paper card for contacts. \n\n\n                    \n                        \n                        \n                    \n\n        \n        Region 13 Virtual Summit: Boldly Going Together \n March 29\, 2025 | 1:00 PM – 9:00 PM EST | ZOOM  \nPrepare for an unforgettable journey through the stars! Join us for the Region 13 Virtual Summit: Boldly Going Together\, a day packed with fun\, learning\, and excitement\, all from the comfort of your own home. Whether you’re a lifelong Star Trek fan or new to the universe\, this summit has something for everyone!  \n Event Highlights \n\nPanel by the USS Vector: A lively discussion on Star Trek Discovery and where this series fit into the Star Trek universe \nPresentation by STARFLEET Sciences: Get ready for a fascinating presentation where science meets science fiction! \nTrivia Games: Test your knowledge of the Final Frontier! Compete with fellow fans in fun and challenging trivia. \nCosplay Contest: Embrace your inner Starfleet officer (or alien!) and show off your best cosplay.\nWatch Party: Relive classic Star Trek moments with a watch party that’ll take you to warp speed! \n\n Special Surprises \nSprinkled throughout the event will be unexpected surprises to keep you on your toes\, and only those who attend will experience them firsthand!  \nOpen to All in STARFLEET International \nThis event is open to all members of STARFLEET International\, so no matter where you are in the world\, you can participate in this virtual experience.  \nMark your calendars\, prepare your cosplay\, and get ready to boldly go where no summit has gone before!  \nDon’t miss out on this day of celebration\, connection\, and camaraderie! Register now and we’ll see you there!     \n\n        \n                        \n        \n                        \n                        \n                        \n                    \n\n        \n                        \n                                                Register Today
URL:https://members.sfi.org/event/starfleet-amateur-radio-group-celebrating-star-trek-1701-event/
LOCATION:Amateur Radio bands
CATEGORIES:Amateur Radio,STARFLEET
ATTACH;FMTTYPE=image/png:https://members.sfi.org/storage/sites/5/2025/01/SFARG_Logo.png
END:VEVENT
BEGIN:VEVENT
DTSTART;TZID=America/New_York:20241116T140000
DTEND;TZID=America/New_York:20241116T140000
DTSTAMP:20260422T134354
CREATED:20240921T025723Z
LAST-MODIFIED:20240921T025723Z
UID:5719-1731765600-1731765600@members.sfi.org
SUMMARY:Star Trek Online (XBox)
DESCRIPTION:Come join your fellow Fleet gamers in Star Trek Online as we take on the galaxy as a group! This event will occur using the Star Trek Online XBox version. It is free to play. \n\n\n                    \n                        \n                        \n                    \n\n        \n        Region 13 Virtual Summit: Boldly Going Together \n March 29\, 2025 | 1:00 PM – 9:00 PM EST | ZOOM  \nPrepare for an unforgettable journey through the stars! Join us for the Region 13 Virtual Summit: Boldly Going Together\, a day packed with fun\, learning\, and excitement\, all from the comfort of your own home. Whether you’re a lifelong Star Trek fan or new to the universe\, this summit has something for everyone!  \n Event Highlights \n\nPanel by the USS Vector: A lively discussion on Star Trek Discovery and where this series fit into the Star Trek universe \nPresentation by STARFLEET Sciences: Get ready for a fascinating presentation where science meets science fiction! \nTrivia Games: Test your knowledge of the Final Frontier! Compete with fellow fans in fun and challenging trivia. \nCosplay Contest: Embrace your inner Starfleet officer (or alien!) and show off your best cosplay.\nWatch Party: Relive classic Star Trek moments with a watch party that’ll take you to warp speed! \n\n Special Surprises \nSprinkled throughout the event will be unexpected surprises to keep you on your toes\, and only those who attend will experience them firsthand!  \nOpen to All in STARFLEET International \nThis event is open to all members of STARFLEET International\, so no matter where you are in the world\, you can participate in this virtual experience.  \nMark your calendars\, prepare your cosplay\, and get ready to boldly go where no summit has gone before!  \nDon’t miss out on this day of celebration\, connection\, and camaraderie! Register now and we’ll see you there!     \n\n        \n                        \n        \n                        \n                        \n                        \n                    \n\n        \n                        \n                                                Register Today
URL:https://members.sfi.org/event/star-trek-online-xbox-5/
LOCATION:STARFLEET Tactical Discord
CATEGORIES:Auxiliaries,STARFLEET,STARFLEET Tactical,Tactical (Gaming)
ATTACH;FMTTYPE=image/jpeg:https://members.sfi.org/storage/sites/5/2024/03/EP4apaPU8AE0278.jpg
END:VEVENT
BEGIN:VEVENT
DTSTART;TZID=UTC:20250111T200000
DTEND;TZID=UTC:20250111T213000
DTSTAMP:20260422T134354
CREATED:20250108T031008Z
LAST-MODIFIED:20250108T031133Z
UID:5954-1736625600-1736631000@members.sfi.org
SUMMARY:Region 13 Watch Party
DESCRIPTION:Welcome to the Region 13 Watch Party!\nJoin us every Saturday at 8 pm Eastern for an exciting watch party hosted by Region 13 and in collaboration with the USS Renaissance. Please have the episode ready on your streaming service or DVD/Blu-ray as we do not stream it due to technical and copyright reasons. Use the provided details below to join us! \nNOTE: We ask that everyone attending stream the episode locally\, you will need access to this episode on streaming service or DVD/BlueRay. We do not typically stream the episode for you due to technical and copywrite restrictions. \nTopic: USS Renaissance Watch Party / Region 13 Watch Party \nPLEASE NOTE: Once we start playing the episode no one else will be allowed to join the watch party Zoom\, this is necessary to not interrupt people’s enjoyment of watching the episode. Please show up no later than 8:16 pm Eastern. \nJoin Zoom Meeting\nLink: https://us02web.zoom.us/j/87178552642?pwd=IgLVjhUT0HOiIV6LkW1kKACvJRhhGO.1\nMeeting ID: 871 7855 2642\nPasscode: 996270 \n\n\n                    \n                        \n                        \n                    \n\n        \n        Region 13 Virtual Summit: Boldly Going Together \n March 29\, 2025 | 1:00 PM – 9:00 PM EST | ZOOM  \nPrepare for an unforgettable journey through the stars! Join us for the Region 13 Virtual Summit: Boldly Going Together\, a day packed with fun\, learning\, and excitement\, all from the comfort of your own home. Whether you’re a lifelong Star Trek fan or new to the universe\, this summit has something for everyone!  \n Event Highlights \n\nPanel by the USS Vector: A lively discussion on Star Trek Discovery and where this series fit into the Star Trek universe \nPresentation by STARFLEET Sciences: Get ready for a fascinating presentation where science meets science fiction! \nTrivia Games: Test your knowledge of the Final Frontier! Compete with fellow fans in fun and challenging trivia. \nCosplay Contest: Embrace your inner Starfleet officer (or alien!) and show off your best cosplay.\nWatch Party: Relive classic Star Trek moments with a watch party that’ll take you to warp speed! \n\n Special Surprises \nSprinkled throughout the event will be unexpected surprises to keep you on your toes\, and only those who attend will experience them firsthand!  \nOpen to All in STARFLEET International \nThis event is open to all members of STARFLEET International\, so no matter where you are in the world\, you can participate in this virtual experience.  \nMark your calendars\, prepare your cosplay\, and get ready to boldly go where no summit has gone before!  \nDon’t miss out on this day of celebration\, connection\, and camaraderie! Register now and we’ll see you there!     \n\n        \n                        \n        \n                        \n                        \n                        \n                    \n\n        \n                        \n                                                Register Today
URL:https://members.sfi.org/event/region-13-watch-party-25-2/
LOCATION:Zoom
CATEGORIES:R13
ATTACH;FMTTYPE=image/jpeg:https://members.sfi.org/storage/sites/5/2024/03/Region-13-Watch-party.jpg
ORGANIZER;CN="USS Renaissance":MAILTO:randy.ussrenaissance@gmail.com
END:VEVENT
BEGIN:VEVENT
DTSTART;TZID=America/New_York:20241109T210000
DTEND;TZID=America/New_York:20241109T210000
DTSTAMP:20260422T134354
CREATED:20240921T024328Z
LAST-MODIFIED:20240921T024329Z
UID:5709-1731186000-1731186000@members.sfi.org
SUMMARY:Star Trek Online (PC)
DESCRIPTION:Come join your fellow Fleet gamers in Star Trek Online as we take on the galaxy as a group! This event will occur using the Star Trek Online PC version. It is free to play. \n\n\n                    \n                        \n                        \n                    \n\n        \n        Region 13 Virtual Summit: Boldly Going Together \n March 29\, 2025 | 1:00 PM – 9:00 PM EST | ZOOM  \nPrepare for an unforgettable journey through the stars! Join us for the Region 13 Virtual Summit: Boldly Going Together\, a day packed with fun\, learning\, and excitement\, all from the comfort of your own home. Whether you’re a lifelong Star Trek fan or new to the universe\, this summit has something for everyone!  \n Event Highlights \n\nPanel by the USS Vector: A lively discussion on Star Trek Discovery and where this series fit into the Star Trek universe \nPresentation by STARFLEET Sciences: Get ready for a fascinating presentation where science meets science fiction! \nTrivia Games: Test your knowledge of the Final Frontier! Compete with fellow fans in fun and challenging trivia. \nCosplay Contest: Embrace your inner Starfleet officer (or alien!) and show off your best cosplay.\nWatch Party: Relive classic Star Trek moments with a watch party that’ll take you to warp speed! \n\n Special Surprises \nSprinkled throughout the event will be unexpected surprises to keep you on your toes\, and only those who attend will experience them firsthand!  \nOpen to All in STARFLEET International \nThis event is open to all members of STARFLEET International\, so no matter where you are in the world\, you can participate in this virtual experience.  \nMark your calendars\, prepare your cosplay\, and get ready to boldly go where no summit has gone before!  \nDon’t miss out on this day of celebration\, connection\, and camaraderie! Register now and we’ll see you there!     \n\n        \n                        \n        \n                        \n                        \n                        \n                    \n\n        \n                        \n                                                Register Today
URL:https://members.sfi.org/event/star-trek-online-pc-13/
LOCATION:STARFLEET Tactical Discord
CATEGORIES:Auxiliaries,STARFLEET,STARFLEET Tactical,Tactical (Gaming)
ATTACH;FMTTYPE=image/jpeg:https://members.sfi.org/storage/sites/5/2024/03/EP4apaPU8AE0278.jpg
END:VEVENT
END:VCALENDAR