BEGIN:VCALENDAR
VERSION:2.0
PRODID:-//STARFLEET Members Hub - ECPv6.15.20//NONSGML v1.0//EN
CALSCALE:GREGORIAN
METHOD:PUBLISH
X-ORIGINAL-URL:https://members.sfi.org
X-WR-CALDESC:Events for STARFLEET Members Hub
REFRESH-INTERVAL;VALUE=DURATION:PT1H
X-Robots-Tag:noindex
X-PUBLISHED-TTL:PT1H
BEGIN:VTIMEZONE
TZID:UTC
BEGIN:STANDARD
TZOFFSETFROM:+0000
TZOFFSETTO:+0000
TZNAME:UTC
DTSTART:20240101T000000
END:STANDARD
END:VTIMEZONE
BEGIN:VTIMEZONE
TZID:America/New_York
BEGIN:DAYLIGHT
TZOFFSETFROM:-0500
TZOFFSETTO:-0400
TZNAME:EDT
DTSTART:20240310T070000
END:DAYLIGHT
BEGIN:STANDARD
TZOFFSETFROM:-0400
TZOFFSETTO:-0500
TZNAME:EST
DTSTART:20241103T060000
END:STANDARD
BEGIN:DAYLIGHT
TZOFFSETFROM:-0500
TZOFFSETTO:-0400
TZNAME:EDT
DTSTART:20250309T070000
END:DAYLIGHT
BEGIN:STANDARD
TZOFFSETFROM:-0400
TZOFFSETTO:-0500
TZNAME:EST
DTSTART:20251102T060000
END:STANDARD
BEGIN:DAYLIGHT
TZOFFSETFROM:-0500
TZOFFSETTO:-0400
TZNAME:EDT
DTSTART:20260308T070000
END:DAYLIGHT
BEGIN:STANDARD
TZOFFSETFROM:-0400
TZOFFSETTO:-0500
TZNAME:EST
DTSTART:20261101T060000
END:STANDARD
END:VTIMEZONE
BEGIN:VEVENT
DTSTART;TZID=UTC:20250110T000000
DTEND;TZID=UTC:20250126T000000
DTSTAMP:20260422T135454
CREATED:20250103T230904Z
LAST-MODIFIED:20250103T230904Z
UID:5929-1736467200-1737849600@members.sfi.org
SUMMARY:Starfleet Amateur Radio Group - Celebrating Star Trek\, 1701 event
DESCRIPTION:Celebrating Star Trek from Jan 10 – Jan 25\, 2025 \nMost countries put the date as ddmm \nThe importance of this one is 1701 as the the NCC-1701\, the USS Enterprise on Star Trek \nStarfleet Amateur Radio Group SFARG@k6irk.com \nWe will be operating on various bands and modes. \nSSB\, FT8\, FT4\, DMR \nOther Stations involved in this Event is: \nN6S – N6S@k6irk.com – operator – Rob – K6IRK\nN6C – – operator – Ed – K6NCC \nDigital QSL Cards or certificates will only sent out and will confirm on QRZ. \nN6S has digital cards that will be sent out. \nDepending on the popularity of the event\, we may do paper cards next year. \nWould love to get a digital and/or paper card for contacts. \n\n\n                    \n                        \n                        \n                    \n\n        \n        Region 13 Virtual Summit: Boldly Going Together \n March 29\, 2025 | 1:00 PM – 9:00 PM EST | ZOOM  \nPrepare for an unforgettable journey through the stars! Join us for the Region 13 Virtual Summit: Boldly Going Together\, a day packed with fun\, learning\, and excitement\, all from the comfort of your own home. Whether you’re a lifelong Star Trek fan or new to the universe\, this summit has something for everyone!  \n Event Highlights \n\nPanel by the USS Vector: A lively discussion on Star Trek Discovery and where this series fit into the Star Trek universe \nPresentation by STARFLEET Sciences: Get ready for a fascinating presentation where science meets science fiction! \nTrivia Games: Test your knowledge of the Final Frontier! Compete with fellow fans in fun and challenging trivia. \nCosplay Contest: Embrace your inner Starfleet officer (or alien!) and show off your best cosplay.\nWatch Party: Relive classic Star Trek moments with a watch party that’ll take you to warp speed! \n\n Special Surprises \nSprinkled throughout the event will be unexpected surprises to keep you on your toes\, and only those who attend will experience them firsthand!  \nOpen to All in STARFLEET International \nThis event is open to all members of STARFLEET International\, so no matter where you are in the world\, you can participate in this virtual experience.  \nMark your calendars\, prepare your cosplay\, and get ready to boldly go where no summit has gone before!  \nDon’t miss out on this day of celebration\, connection\, and camaraderie! Register now and we’ll see you there!     \n\n        \n                        \n        \n                        \n                        \n                        \n                    \n\n        \n                        \n                                                Register Today
URL:https://members.sfi.org/event/starfleet-amateur-radio-group-celebrating-star-trek-1701-event/
LOCATION:Amateur Radio bands
CATEGORIES:Amateur Radio,STARFLEET
ATTACH;FMTTYPE=image/png:https://members.sfi.org/storage/sites/5/2025/01/SFARG_Logo.png
END:VEVENT
BEGIN:VEVENT
DTSTART;TZID=America/New_York:20250114T200000
DTEND;TZID=America/New_York:20250114T223000
DTSTAMP:20260422T135454
CREATED:20250108T030527Z
LAST-MODIFIED:20250108T030806Z
UID:5940-1736884800-1736893800@members.sfi.org
SUMMARY:Star Trek Beyond Watch Party
DESCRIPTION:Star Trek Beyond – Movie Watch Party & Academy Course\nIn Star Trek Beyond (Kelvin Timeline 2016)\, the USS Enterprise is unexpectedly destroyed during a mission to rescue a stranded ship in a remote nebula. The crew is scattered on an alien planet and faces a ruthless enemy\, Krall\, who harbours a deep hatred for the Federation. As Kirk\, Spock\, and the team struggle to survive and stop Krall’s deadly plot\, they are reminded of the true meaning of camaraderie\, sacrifice\, and exploration. Amid fierce battles and emotional challenges\, the crew must reunite to save Starbase Yorktown from an impending disaster. \nWant to explore Star Trek Beyond in more detail? Join the STARFLEET Academy Course ST13: Star Trek Beyond (Kelvin Timeline)! Learn about the movie’s characters\, memorable quotes\, advanced technology\, and trivia through a series of fun and educational modules. Whether you’re a seasoned fan or new to the series\, this course is the perfect way to dive deeper into the Star Trek universe. Enroll today and boldly go where no student has gone before! \nWhere to Watch\nParamount: https://www.paramountplus.com/movies/video/x_Wwyud1GGyNLOZOnIdjs0FcEDnDBfZ8/ \n\n\nAcademy College – ST13: Star Trek Beyond (Kelvin Timeline)\nNavigate to: STARFLEET Fandom Academy (SFA) / Institute of Star Trek Studies (IOSTS) / College of Treknology / School of Star Trek Movies / ST13: Star Trek Beyond (Kelvin Timeline) \nWhere you’ll find the following courses to complete: \n\nST13 101 – Characters\nST13 102 – Quotes\nST13 103 – Technology\nST13 104 – Trivia\n\nEvent Details\nTopic: Region 13 Special Watch Party.\nTime: January 14th\, 2025 @ 8pm Eastern \nJoin Zoom Meeting\nhttps://us02web.zoom.us/j/86034862133?pwd=cngxb0ZlRW5wcnlZdzNCSUpXSXp3QT09 \nMeeting ID: 860 3486 2133\nPasscode: 75874 \n\n\n\n\n\n\n\n\n\n\n                    \n                        \n                        \n                    \n\n        \n        Region 13 Virtual Summit: Boldly Going Together \n March 29\, 2025 | 1:00 PM – 9:00 PM EST | ZOOM  \nPrepare for an unforgettable journey through the stars! Join us for the Region 13 Virtual Summit: Boldly Going Together\, a day packed with fun\, learning\, and excitement\, all from the comfort of your own home. Whether you’re a lifelong Star Trek fan or new to the universe\, this summit has something for everyone!  \n Event Highlights \n\nPanel by the USS Vector: A lively discussion on Star Trek Discovery and where this series fit into the Star Trek universe \nPresentation by STARFLEET Sciences: Get ready for a fascinating presentation where science meets science fiction! \nTrivia Games: Test your knowledge of the Final Frontier! Compete with fellow fans in fun and challenging trivia. \nCosplay Contest: Embrace your inner Starfleet officer (or alien!) and show off your best cosplay.\nWatch Party: Relive classic Star Trek moments with a watch party that’ll take you to warp speed! \n\n Special Surprises \nSprinkled throughout the event will be unexpected surprises to keep you on your toes\, and only those who attend will experience them firsthand!  \nOpen to All in STARFLEET International \nThis event is open to all members of STARFLEET International\, so no matter where you are in the world\, you can participate in this virtual experience.  \nMark your calendars\, prepare your cosplay\, and get ready to boldly go where no summit has gone before!  \nDon’t miss out on this day of celebration\, connection\, and camaraderie! Register now and we’ll see you there!     \n\n        \n                        \n        \n                        \n                        \n                        \n                    \n\n        \n                        \n                                                Register Today
URL:https://members.sfi.org/event/star-trek-beyond-watch-party/
LOCATION:Zoom
CATEGORIES:Educational Services,R13,Region,STARFLEET
ATTACH;FMTTYPE=image/jpeg:https://members.sfi.org/storage/sites/5/2025/01/Star-Trek-Beyond.jpg
END:VEVENT
END:VCALENDAR