BEGIN:VCALENDAR
VERSION:2.0
PRODID:-//STARFLEET Members Hub - ECPv6.15.20//NONSGML v1.0//EN
CALSCALE:GREGORIAN
METHOD:PUBLISH
X-WR-CALNAME:STARFLEET Members Hub
X-ORIGINAL-URL:https://members.sfi.org
X-WR-CALDESC:Events for STARFLEET Members Hub
REFRESH-INTERVAL;VALUE=DURATION:PT1H
X-Robots-Tag:noindex
X-PUBLISHED-TTL:PT1H
BEGIN:VTIMEZONE
TZID:UTC
BEGIN:STANDARD
TZOFFSETFROM:+0000
TZOFFSETTO:+0000
TZNAME:UTC
DTSTART:20230101T000000
END:STANDARD
END:VTIMEZONE
BEGIN:VTIMEZONE
TZID:America/Chicago
BEGIN:DAYLIGHT
TZOFFSETFROM:-0600
TZOFFSETTO:-0500
TZNAME:CDT
DTSTART:20230312T080000
END:DAYLIGHT
BEGIN:STANDARD
TZOFFSETFROM:-0500
TZOFFSETTO:-0600
TZNAME:CST
DTSTART:20231105T070000
END:STANDARD
BEGIN:DAYLIGHT
TZOFFSETFROM:-0600
TZOFFSETTO:-0500
TZNAME:CDT
DTSTART:20240310T080000
END:DAYLIGHT
BEGIN:STANDARD
TZOFFSETFROM:-0500
TZOFFSETTO:-0600
TZNAME:CST
DTSTART:20241103T070000
END:STANDARD
BEGIN:DAYLIGHT
TZOFFSETFROM:-0600
TZOFFSETTO:-0500
TZNAME:CDT
DTSTART:20250309T080000
END:DAYLIGHT
BEGIN:STANDARD
TZOFFSETFROM:-0500
TZOFFSETTO:-0600
TZNAME:CST
DTSTART:20251102T070000
END:STANDARD
END:VTIMEZONE
BEGIN:VEVENT
DTSTART;VALUE=DATE:20240301
DTEND;VALUE=DATE:20250101
DTSTAMP:20260422T135342
CREATED:20240303T042053Z
LAST-MODIFIED:20240623T012332Z
UID:2658-1709251200-1735689599@members.sfi.org
SUMMARY:STARFLEET Medical Reading Challenge
DESCRIPTION:Our new Reading Challenge will be starting on March 1st! Please join the STARFLEET Medical Reading Challenge Facebook Group. You must answer the questions to join per STARFLEET regulations. You will not be permitted to join if you do not answer the questions.\n  \nWith that little bit of business out of the way…..all files will be added to the group soon.\n  \nThe Challenge is simple\, you just read. Read whatever you want\, as much or as little as you like\, any genre\, any age. You will fill out the excel document that will be in files with your name\, SCC number\, ship name\, region\, book title\, author\, and pages read. At the end of the month\, you will simply email the form to medicalr04asg@sfi.org. Certificates will be awarded to everyone who participates. There will also be monthly awards for the most read per person\, per ship\, and per region.\n  \nThere will occasionally be monthly challenges\, for instance\, this month we may give double pages read for Star Trek books\, or Sci Fi\, or historical…etc. Always\, any STARFLEET manual will be double pages scored.\n  \nI am sure there will be kinks to work out\, and I appreciate your patience as we begin this new Challenge. Please tell your friends…and we will have so much fun! “But\, you don’t have to take my word for it!”\n  \n\n\n                    \n                        \n                        \n                    \n\n        \n        Region 13 Virtual Summit: Boldly Going Together \n March 29\, 2025 | 1:00 PM – 9:00 PM EST | ZOOM  \nPrepare for an unforgettable journey through the stars! Join us for the Region 13 Virtual Summit: Boldly Going Together\, a day packed with fun\, learning\, and excitement\, all from the comfort of your own home. Whether you’re a lifelong Star Trek fan or new to the universe\, this summit has something for everyone!  \n Event Highlights \n\nPanel by the USS Vector: A lively discussion on Star Trek Discovery and where this series fit into the Star Trek universe \nPresentation by STARFLEET Sciences: Get ready for a fascinating presentation where science meets science fiction! \nTrivia Games: Test your knowledge of the Final Frontier! Compete with fellow fans in fun and challenging trivia. \nCosplay Contest: Embrace your inner Starfleet officer (or alien!) and show off your best cosplay.\nWatch Party: Relive classic Star Trek moments with a watch party that’ll take you to warp speed! \n\n Special Surprises \nSprinkled throughout the event will be unexpected surprises to keep you on your toes\, and only those who attend will experience them firsthand!  \nOpen to All in STARFLEET International \nThis event is open to all members of STARFLEET International\, so no matter where you are in the world\, you can participate in this virtual experience.  \nMark your calendars\, prepare your cosplay\, and get ready to boldly go where no summit has gone before!  \nDon’t miss out on this day of celebration\, connection\, and camaraderie! Register now and we’ll see you there!     \n\n        \n                        \n        \n                        \n                        \n                        \n                    \n\n        \n                        \n                                                Register Today
URL:https://members.sfi.org/event/starfleet-medical-reading-challenge/
CATEGORIES:Auxiliaries,STARFLEET Medical
ATTACH;FMTTYPE=image/png:https://members.sfi.org/storage/sites/5/2024/03/output-onlinepngtools-15.png
ORGANIZER;CN="SFM-RD Roberta Staymates":MAILTO:medicalrd@sfi.org
END:VEVENT
BEGIN:VEVENT
DTSTART;VALUE=DATE:20240901
DTEND;VALUE=DATE:20250101
DTSTAMP:20260422T135342
CREATED:20240310T045959Z
LAST-MODIFIED:20240914T115154Z
UID:3039-1725148800-1735689599@members.sfi.org
SUMMARY:STARFLEET Medical: Region 17 Fitness Challenge
DESCRIPTION:STARFLEET Medical: Region 17 has a fitness challenge open to all members of STARFLEET. This challenge counts steps OR active minutes. You can turn in week by week or once at the end of each month. \nWhile many of our members choose to walk\, our department recognizes that this is not feasible for all members. Active minutes may be counted in lieu of steps\, such as wheelchair yoga\, physical therapy\, swimming\, or adaptive weightlifting sessions. Please choose whether you turn in steps OR active minutes each month. \nPlease contact R17 ASG Coleen Parker at theotherotter4@gmail.com if you need different accommodations. \nThis is an event that will last all year for fun\, no pressure. As always\, please consult your medical provider before beginning a new or more strenuous exercise program. \nSteps/Minutes not submitted by midnight on the 2nd of the subsequent month will not be counted. \nFor details of each month and to turn in: https://forms.gle/79dEkubgiqte1GYt8 \nCertificates will be posted in STARFLEET Medical: Region 17 on Facebook https://www.facebook.com/groups/sfmregion17asg/ and Region 17 Discord https://discord.gg/h6TwqWw5SP \n\n\n                    \n                        \n                        \n                    \n\n        \n        Region 13 Virtual Summit: Boldly Going Together \n March 29\, 2025 | 1:00 PM – 9:00 PM EST | ZOOM  \nPrepare for an unforgettable journey through the stars! Join us for the Region 13 Virtual Summit: Boldly Going Together\, a day packed with fun\, learning\, and excitement\, all from the comfort of your own home. Whether you’re a lifelong Star Trek fan or new to the universe\, this summit has something for everyone!  \n Event Highlights \n\nPanel by the USS Vector: A lively discussion on Star Trek Discovery and where this series fit into the Star Trek universe \nPresentation by STARFLEET Sciences: Get ready for a fascinating presentation where science meets science fiction! \nTrivia Games: Test your knowledge of the Final Frontier! Compete with fellow fans in fun and challenging trivia. \nCosplay Contest: Embrace your inner Starfleet officer (or alien!) and show off your best cosplay.\nWatch Party: Relive classic Star Trek moments with a watch party that’ll take you to warp speed! \n\n Special Surprises \nSprinkled throughout the event will be unexpected surprises to keep you on your toes\, and only those who attend will experience them firsthand!  \nOpen to All in STARFLEET International \nThis event is open to all members of STARFLEET International\, so no matter where you are in the world\, you can participate in this virtual experience.  \nMark your calendars\, prepare your cosplay\, and get ready to boldly go where no summit has gone before!  \nDon’t miss out on this day of celebration\, connection\, and camaraderie! Register now and we’ll see you there!     \n\n        \n                        \n        \n                        \n                        \n                        \n                    \n\n        \n                        \n                                                Register Today
URL:https://members.sfi.org/event/starfleet-medical-region-17-fitness-challenge-turn-in-2/
CATEGORIES:R17,STARFLEET Medical
ATTACH;FMTTYPE=image/jpeg:https://members.sfi.org/storage/sites/5/2024/03/region-17-medical.jpg
END:VEVENT
BEGIN:VEVENT
DTSTART;VALUE=DATE:20241111
DTEND;VALUE=DATE:20241231
DTSTAMP:20260422T135342
CREATED:20241120T000617Z
LAST-MODIFIED:20241120T000904Z
UID:5865-1731283200-1735603199@members.sfi.org
SUMMARY:STARFLEET Sciences - Oceanography Challenge
DESCRIPTION:Welcome to the final Sciences Challenge for 2024! The oceans of our planet are as beautiful as they are mysterious. Less than 5% of the world’s ocean has been explored\, leaving so much to still be found and even more to be left to spark the imagination. This challenge will lead into our first challenge\, expanding on your knowledge of the world’s oceans. We invite anyone who wishes to participate to join in. Proof of coursework\, either by copy of certificate or a screenshot of your transcript\, can be emailed to sfsci-chiefedu@sfi.org. Visit either the STARFLEET Sciences Facebook Page or https://sciences.sfi.org/challenges/ for more information. Good luck to all! \n\n\n                    \n                        \n                        \n                    \n\n        \n        Region 13 Virtual Summit: Boldly Going Together \n March 29\, 2025 | 1:00 PM – 9:00 PM EST | ZOOM  \nPrepare for an unforgettable journey through the stars! Join us for the Region 13 Virtual Summit: Boldly Going Together\, a day packed with fun\, learning\, and excitement\, all from the comfort of your own home. Whether you’re a lifelong Star Trek fan or new to the universe\, this summit has something for everyone!  \n Event Highlights \n\nPanel by the USS Vector: A lively discussion on Star Trek Discovery and where this series fit into the Star Trek universe \nPresentation by STARFLEET Sciences: Get ready for a fascinating presentation where science meets science fiction! \nTrivia Games: Test your knowledge of the Final Frontier! Compete with fellow fans in fun and challenging trivia. \nCosplay Contest: Embrace your inner Starfleet officer (or alien!) and show off your best cosplay.\nWatch Party: Relive classic Star Trek moments with a watch party that’ll take you to warp speed! \n\n Special Surprises \nSprinkled throughout the event will be unexpected surprises to keep you on your toes\, and only those who attend will experience them firsthand!  \nOpen to All in STARFLEET International \nThis event is open to all members of STARFLEET International\, so no matter where you are in the world\, you can participate in this virtual experience.  \nMark your calendars\, prepare your cosplay\, and get ready to boldly go where no summit has gone before!  \nDon’t miss out on this day of celebration\, connection\, and camaraderie! Register now and we’ll see you there!     \n\n        \n                        \n        \n                        \n                        \n                        \n                    \n\n        \n                        \n                                                Register Today
URL:https://members.sfi.org/event/oceanography-challenge/
ATTACH;FMTTYPE=image/jpeg:https://members.sfi.org/storage/sites/5/2024/11/Designer-22.jpeg
ORGANIZER;CN="STARFLEET Sciences - Education":MAILTO:sfsci-chiefedu@sfi.org
END:VEVENT
BEGIN:VEVENT
DTSTART;TZID=America/Chicago:20241104T190000
DTEND;TZID=America/Chicago:20241104T210000
DTSTAMP:20260422T135342
CREATED:20240919T024256Z
LAST-MODIFIED:20240919T024256Z
UID:5660-1730746800-1730754000@members.sfi.org
SUMMARY:Region 3 Jackbox Games in Discord
DESCRIPTION:Join Region 3 for game night every Monday at 7 PM Central\, 8 PM Eastern in the Region 3 Discord voice channel! Games vary but include all games in every version of Jackbox games. No sign-up is required\, just show up and have fun with us! \nLink to join the Region 3 discord server: https://discord.gg/wFcYNp4Tf7 \nJackbox games will require you to have two devices (typically a PC/laptop/tablet plus a phone) So that you can be a part of the game on Discord in the stream\, and submit your answers with your handheld device. Games typically played range from trivia to drawing games. You can check out the different games Jackbox has to offer here: https://www.jackboxgames.com/ \n\n\n                    \n                        \n                        \n                    \n\n        \n        Region 13 Virtual Summit: Boldly Going Together \n March 29\, 2025 | 1:00 PM – 9:00 PM EST | ZOOM  \nPrepare for an unforgettable journey through the stars! Join us for the Region 13 Virtual Summit: Boldly Going Together\, a day packed with fun\, learning\, and excitement\, all from the comfort of your own home. Whether you’re a lifelong Star Trek fan or new to the universe\, this summit has something for everyone!  \n Event Highlights \n\nPanel by the USS Vector: A lively discussion on Star Trek Discovery and where this series fit into the Star Trek universe \nPresentation by STARFLEET Sciences: Get ready for a fascinating presentation where science meets science fiction! \nTrivia Games: Test your knowledge of the Final Frontier! Compete with fellow fans in fun and challenging trivia. \nCosplay Contest: Embrace your inner Starfleet officer (or alien!) and show off your best cosplay.\nWatch Party: Relive classic Star Trek moments with a watch party that’ll take you to warp speed! \n\n Special Surprises \nSprinkled throughout the event will be unexpected surprises to keep you on your toes\, and only those who attend will experience them firsthand!  \nOpen to All in STARFLEET International \nThis event is open to all members of STARFLEET International\, so no matter where you are in the world\, you can participate in this virtual experience.  \nMark your calendars\, prepare your cosplay\, and get ready to boldly go where no summit has gone before!  \nDon’t miss out on this day of celebration\, connection\, and camaraderie! Register now and we’ll see you there!     \n\n        \n                        \n        \n                        \n                        \n                        \n                    \n\n        \n                        \n                                                Register Today
URL:https://members.sfi.org/event/region-3-jackbox-games-in-discord-10/
LOCATION:Discord – Region 3
CATEGORIES:R3,Region,STARFLEET
ATTACH;FMTTYPE=image/jpeg:https://members.sfi.org/storage/sites/5/2024/02/jackbox-games.jpg
END:VEVENT
END:VCALENDAR